BEGIN:VCALENDAR
VERSION:2.0
PRODID:-//El Templo - ECPv6.15.20//NONSGML v1.0//EN
CALSCALE:GREGORIAN
METHOD:PUBLISH
X-WR-CALNAME:El Templo
X-ORIGINAL-URL:https://eltemplo-heidelberg.de
X-WR-CALDESC:Veranstaltungen für El Templo
REFRESH-INTERVAL;VALUE=DURATION:PT1H
X-Robots-Tag:noindex
X-PUBLISHED-TTL:PT1H
BEGIN:VTIMEZONE
TZID:Europe/Berlin
BEGIN:DAYLIGHT
TZOFFSETFROM:+0100
TZOFFSETTO:+0200
TZNAME:CEST
DTSTART:20250330T010000
END:DAYLIGHT
BEGIN:STANDARD
TZOFFSETFROM:+0200
TZOFFSETTO:+0100
TZNAME:CET
DTSTART:20251026T010000
END:STANDARD
BEGIN:DAYLIGHT
TZOFFSETFROM:+0100
TZOFFSETTO:+0200
TZNAME:CEST
DTSTART:20260329T010000
END:DAYLIGHT
BEGIN:STANDARD
TZOFFSETFROM:+0200
TZOFFSETTO:+0100
TZNAME:CET
DTSTART:20261025T010000
END:STANDARD
BEGIN:DAYLIGHT
TZOFFSETFROM:+0100
TZOFFSETTO:+0200
TZNAME:CEST
DTSTART:20270328T010000
END:DAYLIGHT
BEGIN:STANDARD
TZOFFSETFROM:+0200
TZOFFSETTO:+0100
TZNAME:CET
DTSTART:20271031T010000
END:STANDARD
END:VTIMEZONE
BEGIN:VEVENT
DTSTART;VALUE=DATE:20260807
DTEND;VALUE=DATE:20260810
DTSTAMP:20260422T222255
CREATED:20230418T160012Z
LAST-MODIFIED:20251125T000317Z
UID:1420-1786060800-1786319999@eltemplo-heidelberg.de
SUMMARY:4. Festival Bachata  - Heidelberg
DESCRIPTION:  \n\n\n4.Festival 𝐝𝐞 𝐁𝐚𝐜𝐡𝐚𝐭𝐚\n𝟐𝟎𝟐6 𝐇𝐞𝐢𝐝𝐞𝐥𝐛𝐞𝐫𝐠\n\n von 07.08.26 bis 09.08.26 August\n\n3 𝙿𝚊𝚛𝚝𝚢𝚜\, 3 𝙳𝚊𝚢\, 𝚆𝚘𝚛𝚔𝚜𝚑𝚘𝚙𝚜\, 1 𝙻𝚘𝚌𝚊𝚝𝚒𝚘𝚗 𝚞𝚗𝚍 𝚖𝚎𝚑𝚛.\n\n\n\nArtists\n\n\n\n 🌟Alfredo & Andrea – Spain🌟\n\n𝚆𝚘𝚛𝚕𝚍 𝙱𝚊𝚌𝚑𝚊𝚝𝚊 𝚌𝚑𝚊𝚖𝚙𝚒𝚘𝚗𝚜 – 𝙸𝚗𝚝𝚎𝚛𝚗𝚊𝚝𝚒𝚘𝚗𝚊𝚕 𝙳𝚊𝚗𝚌𝚎𝚛𝚜 𝙱𝚊𝚌𝚑𝚊𝚝𝚊 & 𝚂𝚊𝚕𝚜𝚊 𝚌𝚑𝚘𝚛𝚎𝚘𝚐𝚛𝚊𝚙𝚑𝚎𝚛𝚜.\n\n                                                              🌟Andrea & Silvia – Italien🌟\n\n\n𝚆𝚘𝚛𝚕𝚍 𝙱𝚊𝚌𝚑𝚊𝚝𝚊 𝚌𝚑𝚊𝚖𝚙𝚒𝚘𝚗𝚜 – 𝙸𝚗𝚝𝚎𝚛𝚗𝚊𝚝𝚒𝚘𝚗𝚊𝚕 𝙳𝚊𝚗𝚌𝚎𝚛𝚜 𝙱𝚊𝚌𝚑𝚊𝚝𝚊 Sensual.\n\nnoch mehr ….\n\n\n☆～☆～☆～☆～☆～☆～☆～☆～☆～☆～☆～☆～☆～☆～☆～☆～☆～\n\n\n\n\n𝐅𝐫𝐞𝐢𝐭𝐚𝐠 07.08.26\n\n𝐖𝐨𝐫𝐤𝐬𝐡𝐨𝐩 / 𝐏𝐚𝐫𝐭𝐲 / 𝐒𝐡𝐨𝐰\n\n\n☆～☆～☆～☆～☆～☆～☆～☆～☆～☆～☆～☆～☆～☆～☆～☆～☆～ \n  \n𝐒𝐚𝐦𝐬𝐭𝐚𝐠 - 08.08.26\n\n𝐖𝐨𝐫𝐤𝐬𝐡𝐨𝐩 / Social / 𝐏𝐚𝐫𝐭𝐲 / 𝐒𝐡𝐨𝐰\n\n\n☆～☆～☆～☆～☆～☆～☆～☆～☆～☆～☆～☆～☆～☆～☆～☆～☆～ \n  \n𝐒𝐨𝐧𝐧𝐭𝐚𝐠 – 09.08.26 \n𝐖𝐨𝐫𝐤𝐬𝐡𝐨𝐩 / 𝐏𝐫𝐚𝐜𝐭𝐢𝐜𝐚 / 𝐏𝐚𝐫𝐭𝐲 / 𝐒𝐡𝐨𝐰 \n\n\n  \n☆～☆～☆～☆～☆～☆～☆～☆～☆～☆～☆～☆～☆～☆～☆～☆～☆～ \n  \n 𝗢𝗽𝗲𝗻 𝗟𝗲𝘃𝗲𝗹 - 𝗠𝗶𝘁𝘁𝗲𝗹𝘀𝘁𝘂𝗳𝗲 - 𝗔𝗱𝘃𝗮𝗻𝗰𝗲\n𝗕𝗮𝗰𝗵𝗮𝘁𝗮 𝗗𝗼𝗺𝗶𝗻𝗶𝗰𝗮𝗻𝗮 - 𝗦𝗲𝗻𝘀𝘂𝗮𝗹 - 𝗙𝘂𝘀𝗶𝗼𝗻 - 𝗠𝗼𝗱𝗲𝗿𝗻𝗮 \n𝗣𝗮𝗿𝗻𝗲𝗿𝘁𝘄𝗼𝗿𝗸 - 𝗙𝗼𝗼𝘁𝘄𝗼𝗿𝗸 - 𝗟𝗮𝗱𝘆 𝗦𝘁𝘆𝗹𝗲 - 𝗠𝗮𝗻 𝗦𝘁𝘆𝗹𝗲\n\n\n  \n\n\n\n … and more \n  \n(Am Freitag bis Sonntag) \n\n\n\nBürgerhaus Bahnstadt \nGadamerplatz 2\, 69115 Heidelberg\n\n\n\n\n✶𝚃𝚒𝚌𝚔𝚎𝚝𝚜:\n\n\n✶ 𝙸𝚗𝚏𝚘:\nwww.eltemplo-heidelberg.de \n\n𝗙𝗼𝗹𝗴𝗲 𝘂𝗻𝘀\n\nLa conve: https://www.facebook.com/profile.php?id=61553144007053\n𝗜𝗻𝘀𝘁𝗮𝗴𝗿𝗮𝗺: https://www.instagram.com/eltemplo.hd/\n𝗙𝗮𝗰𝗲𝗯𝗼𝗼𝗸: https://fb.me/e/3iUYaKGck\n𝗧𝗲𝗹𝗲𝗴𝗿𝗮𝗺: https://t.me/+iKGCRa2WUjo3OGVi\nLa Conve & El Templo
URL:https://eltemplo-heidelberg.de/event/4-festival-de-bachata-heidelberg/
LOCATION:El Templo\, BÜRGERHAUS Bahnstadt Gadamerplatz 2\, 69115 Heidelberg\, Heidelberg\, 69115
ATTACH;FMTTYPE=image/jpeg:https://eltemplo-heidelberg.de/wp-content/uploads/2023/04/CONVE-2025-FACEBOOK-JULIO-3-scaled.jpg
END:VEVENT
END:VCALENDAR