BEGIN:VCALENDAR
VERSION:2.0
PRODID:-//El Templo - ECPv6.15.20//NONSGML v1.0//EN
CALSCALE:GREGORIAN
METHOD:PUBLISH
X-WR-CALNAME:El Templo
X-ORIGINAL-URL:https://eltemplo-heidelberg.de
X-WR-CALDESC:Veranstaltungen für El Templo
REFRESH-INTERVAL;VALUE=DURATION:PT1H
X-Robots-Tag:noindex
X-PUBLISHED-TTL:PT1H
BEGIN:VTIMEZONE
TZID:Europe/Berlin
BEGIN:DAYLIGHT
TZOFFSETFROM:+0100
TZOFFSETTO:+0200
TZNAME:CEST
DTSTART:20240331T010000
END:DAYLIGHT
BEGIN:STANDARD
TZOFFSETFROM:+0200
TZOFFSETTO:+0100
TZNAME:CET
DTSTART:20241027T010000
END:STANDARD
BEGIN:DAYLIGHT
TZOFFSETFROM:+0100
TZOFFSETTO:+0200
TZNAME:CEST
DTSTART:20250330T010000
END:DAYLIGHT
BEGIN:STANDARD
TZOFFSETFROM:+0200
TZOFFSETTO:+0100
TZNAME:CET
DTSTART:20251026T010000
END:STANDARD
BEGIN:DAYLIGHT
TZOFFSETFROM:+0100
TZOFFSETTO:+0200
TZNAME:CEST
DTSTART:20260329T010000
END:DAYLIGHT
BEGIN:STANDARD
TZOFFSETFROM:+0200
TZOFFSETTO:+0100
TZNAME:CET
DTSTART:20261025T010000
END:STANDARD
END:VTIMEZONE
BEGIN:VEVENT
DTSTART;TZID=Europe/Berlin:20251129T180000
DTEND;TZID=Europe/Berlin:20251230T023000
DTSTAMP:20260423T045626
CREATED:20250921T091853Z
LAST-MODIFIED:20251125T000521Z
UID:2916-1764439200-1767061800@eltemplo-heidelberg.de
SUMMARY:Salsa Festival Marathon - Heidelberg
DESCRIPTION:  \n   🔱 𝐑𝐞𝐚𝐥 𝐒𝐚𝐥𝐬𝐚 𝐅𝐞𝐬𝐭𝐢𝐯𝐚𝐥 𝐌𝐚𝐫𝐚𝐭𝐡𝐨𝐧 🔱\n𝐇𝐞𝐢𝐝𝐞𝐥𝐛𝐞𝐫𝐠 𝟐𝟎𝟐𝟓\n29.11.25\n  \n∵☆∵☆∵∵☆∵☆∵\n  \n𝑆𝑎𝑙𝑠𝑎 𝐿𝑖𝑛𝑒𝑎\, 𝑆𝑎𝑙𝑠𝑎 𝐶𝑢𝑏𝑎𝑛𝑎\,  𝑂𝑛1 𝑡𝑜 𝑂𝑛2\, 𝐿𝑎𝑑𝑦 𝑆𝑡𝑦𝑙𝑒\, 𝑀𝑎𝑛 𝑆𝑡𝑦𝑙𝑒\, 𝑆ℎ𝑖𝑛𝑒𝑠… \n𝐴𝑛𝑓𝑎̈𝑛𝑔𝑒𝑟 – 𝑀𝑖𝑡𝑡𝑒𝑙𝑠𝑡𝑢𝑓𝑒 – 𝐹𝑜𝑟𝑡𝑔𝑒𝑠𝑐ℎ𝑟𝑖𝑡𝑡𝑒𝑛\n𝑂𝑏 𝑆𝑖𝑛𝑔𝑙𝑒 𝑜𝑑𝑒𝑟 𝑚𝑖𝑡 𝑇𝑎𝑛𝑧𝑝𝑎𝑟𝑡𝑛𝑒𝑟\, 𝑘𝑜𝑚𝑚 𝑢𝑛𝑑 𝑔𝑒𝑛𝑖𝑒ß\n  \n∵☆∵☆∵∵☆∵☆∵\n  \n  \n☆∵☆∵☆∵☆∵☆∵☆∵∵☆∵☆∵☆∵☆∵☆∵☆∵ \n  \n𝐒𝐚𝐦𝐬𝐭𝐚𝐠 𝟐𝟗.𝟏𝟏. \n𝐄𝐢𝐧𝐥𝐚𝐬𝐬 :  \nu𝐦 𝟏𝟎:𝟑𝟎 𝐔𝐡𝐫 \n  \n𝐖𝐨𝐫𝐤𝐬𝐡𝐨𝐩 u𝐦 𝟏𝟏:𝟎𝟎 𝐔𝐡𝐫 \n𝐖𝐨𝐫𝐤𝐬𝐡𝐨𝐩 u𝐦 𝟏𝟐:𝟏𝟎 𝐔𝐡𝐫 \n  \n𝐏𝐚𝐮𝐬𝐚 \n  \n𝐖𝐨𝐫𝐤𝐬𝐡𝐨𝐩 u𝐦 𝟏𝟓:𝟎𝟎 𝐔𝐡𝐫 \n𝐖𝐨𝐫𝐤𝐬𝐡𝐨𝐩 u𝐦 𝟏𝟔:𝟏𝟎 𝐔𝐡𝐫 \n  \n𝐒𝐚𝐥𝐬𝐚 𝐌𝐚𝐫𝐚𝐭𝐡𝐨𝐧 𝐏𝐚𝐫𝐭𝐲 \nu𝐦 𝟏𝟕:𝟏𝟓 𝐔𝐡𝐫 \n  \n☆∵☆∵☆∵☆∵☆∵☆∵∵☆∵☆∵☆∵☆∵☆∵☆∵ \n☆∵☆∵☆∵☆∵☆∵☆∵∵☆∵☆∵☆∵☆∵☆∵☆∵ \n  \n  \n  \n  \n  \n  \n  \n  \n  \n\n  \n  \n  \n 
URL:https://eltemplo-heidelberg.de/event/salsa-festival-marathon-heidelberg/
LOCATION:El Templo\, BÜRGERHAUS Bahnstadt Gadamerplatz 2\, 69115 Heidelberg\, Heidelberg\, 69115
ATTACH;FMTTYPE=image/jpeg:https://eltemplo-heidelberg.de/wp-content/uploads/2025/09/d034e2ad-e3bd-4d46-a9e7-fa58464a6190-1.jpg
END:VEVENT
END:VCALENDAR